BEGIN:VCALENDAR
VERSION:2.0
PRODID:icalendar-ruby
CALSCALE:GREGORIAN
METHOD:PUBLISH
BEGIN:VEVENT
DTSTAMP:20260423T003320Z
UID:5-386822@sharpstreetmemorial.org
DTSTART:20260823T143000Z
DTEND:20260823T153000Z
CLASS:PUBLIC
CREATED:20260422T201745
DESCRIPTION:Sunday Worship
LAST-MODIFIED:20260422T201745
LOCATION:
SUMMARY:Sunday Worship
URL;VALUE=URI:https://www.sharpstreetmemorial.org/events/sunday-worship/202
 6-08-23
END:VEVENT
END:VCALENDAR
