BEGIN:VCALENDAR
VERSION:2.0
PRODID:icalendar-ruby
CALSCALE:GREGORIAN
METHOD:PUBLISH
BEGIN:VEVENT
DTSTAMP:20260423T045320Z
UID:5-387069@sharpstreetmemorial.org
DTSTART:20260913T143000Z
DTEND:20260913T153000Z
CLASS:PUBLIC
CREATED:20260422T231209
DESCRIPTION:Sunday Worship
LAST-MODIFIED:20260422T231209
LOCATION:
SUMMARY:Sunday Worship
URL;VALUE=URI:https://www.sharpstreetmemorial.org/events/sunday-worship/202
 6-09-13
END:VEVENT
END:VCALENDAR
