BEGIN:VCALENDAR
VERSION:2.0
PRODID:icalendar-ruby
CALSCALE:GREGORIAN
METHOD:PUBLISH
BEGIN:VEVENT
DTSTAMP:20260423T061715Z
UID:5-387070@sharpstreetmemorial.org
DTSTART:20260920T143000Z
DTEND:20260920T153000Z
CLASS:PUBLIC
CREATED:20260422T231209
DESCRIPTION:Sunday Worship
LAST-MODIFIED:20260422T231209
LOCATION:
SUMMARY:Sunday Worship
URL;VALUE=URI:https://www.sharpstreetmemorial.org/events/sunday-worship/202
 6-09-20
END:VEVENT
END:VCALENDAR
