BEGIN:VCALENDAR
VERSION:2.0
PRODID:icalendar-ruby
CALSCALE:GREGORIAN
METHOD:PUBLISH
BEGIN:VEVENT
DTSTAMP:20260423T132304Z
UID:5-387319@sharpstreetmemorial.org
DTSTART:20261025T143000Z
DTEND:20261025T153000Z
CLASS:PUBLIC
CREATED:20260423T084225
DESCRIPTION:Sunday Worship
LAST-MODIFIED:20260423T084225
LOCATION:
SUMMARY:Sunday Worship
URL;VALUE=URI:https://www.sharpstreetmemorial.org/events/sunday-worship/202
 6-10-25
END:VEVENT
END:VCALENDAR
